BEGIN:VCALENDAR
VERSION:2.0
PRODID:-//Women&#039;s Health NSW - ECPv5.3.1.1//NONSGML v1.0//EN
CALSCALE:GREGORIAN
METHOD:PUBLISH
X-WR-CALNAME:Women&#039;s Health NSW
X-ORIGINAL-URL:https://whnsw.asn.au
X-WR-CALDESC:Events for Women&#039;s Health NSW
BEGIN:VTIMEZONE
TZID:Australia/Sydney
BEGIN:STANDARD
TZOFFSETFROM:+1100
TZOFFSETTO:+1000
TZNAME:AEST
DTSTART:20160402T160000
END:STANDARD
BEGIN:DAYLIGHT
TZOFFSETFROM:+1000
TZOFFSETTO:+1100
TZNAME:AEDT
DTSTART:20161001T160000
END:DAYLIGHT
END:VTIMEZONE
BEGIN:VEVENT
DTSTART;VALUE=DATE:20160825
DTEND;VALUE=DATE:20160826
DTSTAMP:20210226T145410
CREATED:20160313T215143Z
LAST-MODIFIED:20160313T215143Z
UID:294-1472083200-1472169599@whnsw.asn.au
SUMMARY:The Day of Action against Sexual Assault
DESCRIPTION:The Day of Action against Sexual Assault is held on the last Thursday in August each year. The aim of the day is to: Celebrate women’s survival of sexual assault Inform SA survivors of their options and let them know they are not alone Acknowledge the efforts and successes of women who work with those survivors Draw attention to the continuing need for public education and support services. \nThe inaugural Day of Action was held in 1992 with a mass tree planting across New South Wales. \nBelow are some statistics relating to the incidence of sexual assault of women and children in this country. \nA survey of women carried out in 1996 (published in the Medical Journal of Australia\, January 1997) showed that: one in five women had been sexually assaulted as a child only one in 10 assaults was reported to any authority men perpetrated 98% of assaults\, and half of them were by family members Australia-wide\, 59\,122 cases of child sexual assault were reported in 1992/93 In NSW\, Department of Community Services (DoCS) received 5\,949 notifications of alleged child sexual assault in 1995/96 (of which about half were substantiated) In NSW\, one in five of all notifications to DoCS are about child sexual assault 133\,100 Australian women (2% of the population) experienced an incidence of sexual violence in just one 12 month period\, according to the Australian Bureau of Statistics (1996). Most attacks were by partners or other known men. If you have any other information about the incidence of sexual assault\, for example the number of women presenting at your service\, you may find it useful to include those statistics in any information sheets or press releases you produce. \nThe Day of Action against Sexual Assault
URL:https://whnsw.asn.au/event/the-day-of-action-against-sexual-assault/
END:VEVENT
END:VCALENDAR